BEGIN:VCALENDAR
VERSION:2.0
PRODID:spatie/icalendar-generator
DESCRIPTION:Events from The Brick Studio
X-WR-CALDESC:Events from The Brick Studio
REFRESH-INTERVAL;VALUE=DURATION:PT1440M
X-PUBLISHED-TTL:PT1440M
BEGIN:VTIMEZONE
TZID:America/New_York
BEGIN:STANDARD
DTSTART:20251102T020000Z
TZOFFSETFROM:-0400
TZOFFSETTO:-0500
END:STANDARD
BEGIN:DAYLIGHT
DTSTART:20260308T020000Z
TZOFFSETFROM:-0500
TZOFFSETTO:-0400
END:DAYLIGHT
BEGIN:STANDARD
DTSTART:20261101T020000Z
TZOFFSETFROM:-0400
TZOFFSETTO:-0500
END:STANDARD
END:VTIMEZONE
BEGIN:VTIMEZONE
TZID:UTC
BEGIN:STANDARD
DTSTART:20250725T042905Z
TZOFFSETFROM:+0000
TZOFFSETTO:+0000
END:STANDARD
END:VTIMEZONE
BEGIN:VEVENT
UID:282-37
DTSTAMP:20260421T042905Z
SUMMARY:The Brick Pottery and Craft Show
LOCATION:
ORGANIZER;CN=Russell Pulick:MAILTO:rpp44@optonline.net
DTSTART;TZID=America/New_York:20260606T100000
DTEND;TZID=America/New_York:20260606T160000
X-ALT-DESC;FMTTYPE=TEXT/HTML:Save the date! Saturday\, June 6th\, 2026 10 a
 m – 4 pm Please join us for our annual Spring Pottery &amp;amp\; Craft Fair 
 . Location TBD Enjoy live music and gourmet snacks along with high-quality
  art and crafts. To receive an application\, you must email CraftShow@TheB
 rickStudio.org with your company name and phone number. We also&amp;hellip\;
CATEGORIES:Board Meeting
URL;VALUE=URI:https://thebrickstudio.org/mc-events/the-brick-pottery-and-cr
 aft-show/
METHOD:PUBLISH
END:VEVENT
END:VCALENDAR