BEGIN:VCALENDAR
VERSION:2.0
PRODID:spatie/icalendar-generator
DESCRIPTION:Events from The Brick Studio
X-WR-CALDESC:Events from The Brick Studio
REFRESH-INTERVAL;VALUE=DURATION:PT1440M
X-PUBLISHED-TTL:PT1440M
BEGIN:VTIMEZONE
TZID:America/New_York
BEGIN:STANDARD
DTSTART:20251102T020000Z
TZOFFSETFROM:-0400
TZOFFSETTO:-0500
END:STANDARD
BEGIN:DAYLIGHT
DTSTART:20260308T020000Z
TZOFFSETFROM:-0500
TZOFFSETTO:-0400
END:DAYLIGHT
END:VTIMEZONE
BEGIN:VTIMEZONE
TZID:UTC
BEGIN:STANDARD
DTSTART:20250725T030506Z
TZOFFSETFROM:+0000
TZOFFSETTO:+0000
END:STANDARD
END:VTIMEZONE
BEGIN:VEVENT
UID:281-36
DTSTAMP:20260421T030506Z
SUMMARY:The Brick's Second Annual Pottery Throwdown
LOCATION:
ORGANIZER;CN=Russell Pulick:MAILTO:rpp44@optonline.net
DTSTART;TZID=America/New_York:20260215T130000
DTEND;TZID=America/New_York:20260215T160000
X-ALT-DESC;FMTTYPE=TEXT/HTML:Join us on Sunday\, February 15th\, at 1 pm fo
 r our Annual Pottery Throwdown\, where participants will compete in a seri
 es of timed wheel-throwing and hand-building challenges! If you would like
  to participate\, please respond to this email or sign up at the front sig
 n-in table. Sign-ups are open to members\, teachers\, and interns. Spots&amp;h
 ellip\;
CATEGORIES:Board Meeting
URL;VALUE=URI:https://thebrickstudio.org/mc-events/the-bricks-second-annual
 -pottery-throwdown/
METHOD:PUBLISH
END:VEVENT
END:VCALENDAR